BEGIN:VCALENDAR
VERSION:2.0
PRODID:-//Pension &amp; FeWo&#039;s Talblick - ECPv6.15.20//NONSGML v1.0//EN
CALSCALE:GREGORIAN
METHOD:PUBLISH
X-WR-CALNAME:Pension &amp; FeWo&#039;s Talblick
X-ORIGINAL-URL:https://eibenstock-talblick.de
X-WR-CALDESC:Veranstaltungen für Pension &amp; FeWo&#039;s Talblick
REFRESH-INTERVAL;VALUE=DURATION:PT1H
X-Robots-Tag:noindex
X-PUBLISHED-TTL:PT1H
BEGIN:VTIMEZONE
TZID:Europe/Berlin
BEGIN:DAYLIGHT
TZOFFSETFROM:+0100
TZOFFSETTO:+0200
TZNAME:CEST
DTSTART:20250330T010000
END:DAYLIGHT
BEGIN:STANDARD
TZOFFSETFROM:+0200
TZOFFSETTO:+0100
TZNAME:CET
DTSTART:20251026T010000
END:STANDARD
BEGIN:DAYLIGHT
TZOFFSETFROM:+0100
TZOFFSETTO:+0200
TZNAME:CEST
DTSTART:20260329T010000
END:DAYLIGHT
BEGIN:STANDARD
TZOFFSETFROM:+0200
TZOFFSETTO:+0100
TZNAME:CET
DTSTART:20261025T010000
END:STANDARD
BEGIN:DAYLIGHT
TZOFFSETFROM:+0100
TZOFFSETTO:+0200
TZNAME:CEST
DTSTART:20270328T010000
END:DAYLIGHT
BEGIN:STANDARD
TZOFFSETFROM:+0200
TZOFFSETTO:+0100
TZNAME:CET
DTSTART:20271031T010000
END:STANDARD
END:VTIMEZONE
BEGIN:VEVENT
DTSTART;TZID=Europe/Berlin:20260807T150000
DTEND;TZID=Europe/Berlin:20260809T120000
DTSTAMP:20260424T151250
CREATED:20260408T075348Z
LAST-MODIFIED:20260408T075348Z
UID:395143-1786114800-1786276800@eibenstock-talblick.de
SUMMARY:Weiblichkeit und Magie der Dankbarkeit
DESCRIPTION:Tauche ein in die Energie deiner Lebensaufgabe mit den Shaping Wings.\nKomm in einen bewussten Umgang mit Pflanzen\, schau in die Geschichte der Heilkunde und lerne bewusstes\, naturnahes Gärtnern im Herbst.\nDie Magie des 5. Jahreskreisfestes Lammas lädt uns zur Dankbarkeit ein. Es ist der Zeitpunkt im Jahr\, an dem Kräuter ihre höchste Kraft entfalten und wir Frauen für die Fülle der Erde und die Geschenke des Himmels danken.\nWir möchten in diesem Kurs etwas zaubern\, das unser Herz erfüllt und mit uns in Resonanz geht – ob Räuchermischung\, Kräuterstrauß\, Salbe oder Badezusatz. \nAls Höhepunkt wollen wir unsere selbstgemachten Geschenke weihen und uns auf die Ruhe des Winters vorbereiten. \nWir freuen uns auf Dich\,\ndeine Mona Selina und Kathrin
URL:https://eibenstock-talblick.de/event/weiblichkeit-und-magie-der-dankbarkeit/
LOCATION:Pension & FeWo´s Talblick\, Frühbusser Straße 8\, Eibenstock OT Weitersglashütte\, Sachsen\, 08309\, Germany
CATEGORIES:Allgemein
ATTACH;FMTTYPE=image/jpeg:https://eibenstock-talblick.de/wp-content/uploads/2026/04/photo_2025-08-04_22-22-35-vergroessert.jpg
ORGANIZER;CN="Mona G%C3%A4rtner":MAILTO:mona@sinneoeffnen.de
END:VEVENT
END:VCALENDAR