BEGIN:VCALENDAR
VERSION:2.0
PRODID:-//Pension &amp; FeWo&#039;s Talblick - ECPv6.15.20//NONSGML v1.0//EN
CALSCALE:GREGORIAN
METHOD:PUBLISH
X-ORIGINAL-URL:https://eibenstock-talblick.de
X-WR-CALDESC:Veranstaltungen für Pension &amp; FeWo&#039;s Talblick
REFRESH-INTERVAL;VALUE=DURATION:PT1H
X-Robots-Tag:noindex
X-PUBLISHED-TTL:PT1H
BEGIN:VTIMEZONE
TZID:Europe/Berlin
BEGIN:DAYLIGHT
TZOFFSETFROM:+0100
TZOFFSETTO:+0200
TZNAME:CEST
DTSTART:20250330T010000
END:DAYLIGHT
BEGIN:STANDARD
TZOFFSETFROM:+0200
TZOFFSETTO:+0100
TZNAME:CET
DTSTART:20251026T010000
END:STANDARD
BEGIN:DAYLIGHT
TZOFFSETFROM:+0100
TZOFFSETTO:+0200
TZNAME:CEST
DTSTART:20260329T010000
END:DAYLIGHT
BEGIN:STANDARD
TZOFFSETFROM:+0200
TZOFFSETTO:+0100
TZNAME:CET
DTSTART:20261025T010000
END:STANDARD
BEGIN:DAYLIGHT
TZOFFSETFROM:+0100
TZOFFSETTO:+0200
TZNAME:CEST
DTSTART:20270328T010000
END:DAYLIGHT
BEGIN:STANDARD
TZOFFSETFROM:+0200
TZOFFSETTO:+0100
TZNAME:CET
DTSTART:20271031T010000
END:STANDARD
END:VTIMEZONE
BEGIN:VEVENT
DTSTART;TZID=Europe/Berlin:20260919T170000
DTEND;TZID=Europe/Berlin:20260925T100000
DTSTAMP:20260424T133825
CREATED:20250617T085711Z
LAST-MODIFIED:20251208T191113Z
UID:394963-1789837200-1790330400@eibenstock-talblick.de
SUMMARY:Basenkur nach P. Jentschura mit Annett Schädlich und Sandra Müller
DESCRIPTION:Mehr Informationen findest Du unter: Basenkuren
URL:https://eibenstock-talblick.de/event/basenkur-nach-p-jentschura-mit-annett-schaedlich-und-sandra-mueller/
LOCATION:Pension & FeWo´s Talblick\, Frühbusser Straße 8\, Eibenstock OT Weitersglashütte\, Sachsen\, 08309\, Germany
CATEGORIES:Fasten
ATTACH;FMTTYPE=image/jpeg:https://eibenstock-talblick.de/wp-content/uploads/2025/06/17.jpg
ORGANIZER;CN="Annett Sch%C3%A4dlich":MAILTO:annett-schaedlich@web.de
END:VEVENT
END:VCALENDAR